BEGIN:VCALENDAR
VERSION:2.0
PRODID:-//wp-events-plugin.com//7.0.5//EN
TZID:Europe/Vienna
X-WR-TIMEZONE:Europe/Vienna
BEGIN:VEVENT
UID:3@ooeja.at
DTSTART;TZID=Europe/Vienna:20221107T100000
DTEND;TZID=Europe/Vienna:20221107T170000
DTSTAMP:20221022T101708Z
URL:https://www.ooeja.at/events/schutzkonzeptworkshop-fuer-die-oja/
SUMMARY:Schutzkonzeptworkshop für die OJA
DESCRIPTION:Die Sicherheit und das Wohlergehen junger Menschen sind in der 
 Offenen Jugendarbeit zentrale Anliegen. bOJA hat daher ein Schutzkonzept e
 ntwickelt\, das Kinder und Jugendliche in der OJA vor Gewalt schützen und
  ihre Rechte wahren soll.\n\nMit diesem kostenfreien Workshop sollen Gesch
 äftsführungen\, Leitungen\, (zukünftige) Schutzbeauftragten bzw. intere
 ssierte Personen aus den Teams ermutigt werden\, sich mit Gewaltschutz umf
 assender auseinanderzusetzen und ein Schutzkonzept für die eigene Einrich
 tung zu entwickeln.\n\nIm Zuge dieses Workshops werden Nutzen und Wirkung 
 von Schutzkonzepten für die Einrichtungen und für\nMitarbeitende sichtba
 r gemacht. Die Handhabung sowie die Verwendung der einzelnen Tools des\nbO
 JA Schutzkonzeptes wird vermittelt und gemeinsam auf die praktische Anwend
 ung geprüft.\nImplementierungsabläufe für die eigene Einrichtung werden
  angedacht und erste konkrete Schritte\ngeplant\, sowie mögliche Unterst
 ützungsnetzwerke eruiert. Die Rolle und Funktion der\nSchutzbeauftragten 
 in der Zusammenarbeit mit der Geschäftsleitung und dem Team wird aufgezei
 gt\,\nerörtert und diskutiert. Fachliches Know How zu Gewalt\, sexualisie
 rter Gewalt\, und zu\nTäter*innenstrategien wird vermittelt.\n\nbOJA hat 
 zusätzlich ein kurzes Erklärvideo entwickelt:\nErklärvideo zum Schutzko
 nzept in der offenen Jugendarbeit\n\nDie Aufnahme vom bOJA Talk zum Thema 
 Schutzkonzept fasst in 40 Minuten alle wichtigen Punkte zusammen\, mit wel
 chen wir uns im Workshop tiefergehend auseinandersetzen werden:\nbOJA Talk
  Schutzkonzept\n\nDie Vorlage von bOJA für das Schutzkonzept findest du h
 ier.\n\nReferent*innen:\nBrigitte Stadelmann\nMarcel Franke\n\nBei Fragen 
 und Problemen mit der Anmeldung: office@ooeja.at\n\nWir bitten um Anmeldun
 g bis 24. Oktober 2022
ATTACH;FMTTYPE=image/jpeg:https://www.ooeja.at/wp-content/uploads/Untersei
 te_Schutzkonzept2.png
LOCATION:Landesdienstleistungszentrum - LDZ\,  Bahnhofpl. 1\, 4020 Linz\, 
 Österreich
X-APPLE-STRUCTURED-LOCATION;VALUE=URI;X-ADDRESS= Bahnhofpl. 1\, 4020 Linz\,
  Österreich;X-APPLE-RADIUS=100;X-TITLE=Landesdienstleistungszentrum - LDZ
 :geo:0,0
END:VEVENT
BEGIN:VTIMEZONE
TZID:Europe/Vienna
X-LIC-LOCATION:Europe/Vienna
BEGIN:STANDARD
DTSTART:20221030T020000
TZOFFSETFROM:+0200
TZOFFSETTO:+0100
TZNAME:CET
END:STANDARD
END:VTIMEZONE
END:VCALENDAR